BEGIN:VCALENDAR
VERSION:2.0
CALSCALE:GREGORIAN
PRODID:-//WordPress//RSVPMaker//EN
METHOD:REQUEST
BEGIN:VEVENT
DTSTAMP:20260421T145618Z
UID:7B6973D6FCAB6B7BCE360DC3A87A1293@rsvpmaker.com
SEQUENCE:0
STATUS:CONFIRMED
DTSTART:19700101T000001Z
DTEND:19700101T000001Z
LOCATION:See\: https\://ortegariverclub.net/rsvpmaker/form14475/
SUMMARY:Form:14475
DESCRIPTION:Event info\: https\://ortegariverclub.net/rsvpmaker/form14
 475/
END:VEVENT
END:VCALENDAR