BEGIN:VCALENDAR
VERSION:2.0
CALSCALE:GREGORIAN
PRODID:-//WordPress//RSVPMaker//EN
METHOD:REQUEST
BEGIN:VEVENT
DTSTAMP:20260421T113453Z
UID:24E6E6721E0A39950780DFB8F91E53ED@rsvpmaker.com
SEQUENCE:0
STATUS:CONFIRMED
DTSTART:19700101T000001Z
DTEND:19700101T000001Z
LOCATION:See\: https\://ortegariverclub.net/rsvpmaker/form14473/
SUMMARY:Form:14473
DESCRIPTION:Event info\: https\://ortegariverclub.net/rsvpmaker/form14
 473/
END:VEVENT
END:VCALENDAR