BEGIN:VCALENDAR
VERSION:2.0
CALSCALE:GREGORIAN
PRODID:-//WordPress//RSVPMaker//EN
METHOD:REQUEST
BEGIN:VEVENT
DTSTAMP:20260421T131052Z
UID:00B5D2692A781B6A9D3D1522C6E9D1AD@rsvpmaker.com
SEQUENCE:0
STATUS:CONFIRMED
DTSTART:19700101T000001Z
DTEND:19700101T000001Z
LOCATION:See\: https\://ortegariverclub.net/rsvpmaker/form14472/
SUMMARY:Form:14472
DESCRIPTION:Event info\: https\://ortegariverclub.net/rsvpmaker/form14
 472/
END:VEVENT
END:VCALENDAR