BEGIN:VCALENDAR
VERSION:2.0
CALSCALE:GREGORIAN
PRODID:-//WordPress//RSVPMaker//EN
METHOD:REQUEST
BEGIN:VEVENT
DTSTAMP:20260421T132037Z
UID:F663B8C9B8331A8C625007B4337601EC@rsvpmaker.com
SEQUENCE:0
STATUS:CONFIRMED
DTSTART:19700101T000001Z
DTEND:19700101T000001Z
LOCATION:See\: https\://ortegariverclub.net/rsvpmaker/form14471/
SUMMARY:Form:14471
DESCRIPTION:Event info\: https\://ortegariverclub.net/rsvpmaker/form14
 471/
END:VEVENT
END:VCALENDAR