BEGIN:VCALENDAR
VERSION:2.0
CALSCALE:GREGORIAN
PRODID:-//WordPress//RSVPMaker//EN
METHOD:REQUEST
BEGIN:VEVENT
DTSTAMP:20260421T131052Z
UID:E1490523B8CD2C130B29656613850CF8@rsvpmaker.com
SEQUENCE:0
STATUS:CONFIRMED
DTSTART:19700101T000001Z
DTEND:19700101T000001Z
LOCATION:See\: https\://ortegariverclub.net/rsvpmaker/form14470/
SUMMARY:Form:14470
DESCRIPTION:Event info\: https\://ortegariverclub.net/rsvpmaker/form14
 470/
END:VEVENT
END:VCALENDAR