BEGIN:VCALENDAR
VERSION:2.0
CALSCALE:GREGORIAN
PRODID:-//WordPress//RSVPMaker//EN
METHOD:REQUEST
BEGIN:VEVENT
DTSTAMP:20260422T223824Z
UID:17440CBF2D556CE0C945559586426AAA@rsvpmaker.com
SEQUENCE:0
STATUS:CONFIRMED
DTSTART:19700101T000001Z
DTEND:19700101T000001Z
LOCATION:See\: https\://ortegariverclub.net/rsvpmaker/form14411/
SUMMARY:Form:14411
DESCRIPTION:Event info\: https\://ortegariverclub.net/rsvpmaker/form14
 411/
END:VEVENT
END:VCALENDAR