BEGIN:VCALENDAR
VERSION:2.0
CALSCALE:GREGORIAN
PRODID:-//WordPress//RSVPMaker//EN
METHOD:REQUEST
BEGIN:VEVENT
DTSTAMP:20260421T145844Z
UID:F4E3432B305E7E30CE4E6F981F260CCE@rsvpmaker.com
SEQUENCE:0
STATUS:CONFIRMED
DTSTART:19700101T000001Z
DTEND:19700101T000001Z
LOCATION:See\: https\://ortegariverclub.net/rsvpmaker/form14409/
SUMMARY:Form:14409
DESCRIPTION:Event info\: https\://ortegariverclub.net/rsvpmaker/form14
 409/
END:VEVENT
END:VCALENDAR