BEGIN:VCALENDAR
VERSION:2.0
CALSCALE:GREGORIAN
PRODID:-//WordPress//RSVPMaker//EN
METHOD:REQUEST
BEGIN:VEVENT
DTSTAMP:20260421T131108Z
UID:AE0DE04DA95F06C3C85934EA84BCCCC0@rsvpmaker.com
SEQUENCE:0
STATUS:CONFIRMED
DTSTART:19700101T000001Z
DTEND:19700101T000001Z
LOCATION:See\: https\://ortegariverclub.net/rsvpmaker/form14407/
SUMMARY:Form:14407
DESCRIPTION:Event info\: https\://ortegariverclub.net/rsvpmaker/form14
 407/
END:VEVENT
END:VCALENDAR