BEGIN:VCALENDAR
VERSION:2.0
CALSCALE:GREGORIAN
PRODID:-//WordPress//RSVPMaker//EN
METHOD:REQUEST
BEGIN:VEVENT
DTSTAMP:20260422T150737Z
UID:09A7AE5955DA82295ABD34BA63761291@rsvpmaker.com
SEQUENCE:0
STATUS:CONFIRMED
DTSTART:19700101T000001Z
DTEND:19700101T000001Z
LOCATION:See\: https\://ortegariverclub.net/rsvpmaker/form14394/
SUMMARY:Form:14394
DESCRIPTION:Event info\: https\://ortegariverclub.net/rsvpmaker/form14
 394/
END:VEVENT
END:VCALENDAR