BEGIN:VCALENDAR
VERSION:2.0
CALSCALE:GREGORIAN
PRODID:-//WordPress//RSVPMaker//EN
METHOD:REQUEST
BEGIN:VEVENT
DTSTAMP:20260422T170117Z
UID:B23F2A9EDDBAE15529DC68D16D4D4C9C@rsvpmaker.com
SEQUENCE:0
STATUS:CONFIRMED
DTSTART:19700101T000001Z
DTEND:19700101T000001Z
LOCATION:See\: https\://ortegariverclub.net/rsvpmaker/form14391/
SUMMARY:Form:14391
DESCRIPTION:Event info\: https\://ortegariverclub.net/rsvpmaker/form14
 391/
END:VEVENT
END:VCALENDAR