BEGIN:VCALENDAR
VERSION:2.0
CALSCALE:GREGORIAN
PRODID:-//WordPress//RSVPMaker//EN
METHOD:REQUEST
BEGIN:VEVENT
DTSTAMP:20260422T205517Z
UID:FFDC7FA7222F38CAC5455D928F2B021B@rsvpmaker.com
SEQUENCE:0
STATUS:CONFIRMED
DTSTART:19700101T000001Z
DTEND:19700101T000001Z
LOCATION:See\: https\://ortegariverclub.net/rsvpmaker/form14389/
SUMMARY:Form:14389
DESCRIPTION:Event info\: https\://ortegariverclub.net/rsvpmaker/form14
 389/
END:VEVENT
END:VCALENDAR