BEGIN:VCALENDAR
VERSION:2.0
CALSCALE:GREGORIAN
PRODID:-//WordPress//RSVPMaker//EN
METHOD:REQUEST
BEGIN:VEVENT
DTSTAMP:20260421T163843Z
UID:A2A394D317AE9D89985646FA98565F36@rsvpmaker.com
SEQUENCE:0
STATUS:CONFIRMED
DTSTART:19700101T000001Z
DTEND:19700101T000001Z
LOCATION:See\: https\://ortegariverclub.net/rsvpmaker/form14387/
SUMMARY:Form:14387
DESCRIPTION:Event info\: https\://ortegariverclub.net/rsvpmaker/form14
 387/
END:VEVENT
END:VCALENDAR