BEGIN:VCALENDAR
VERSION:2.0
CALSCALE:GREGORIAN
PRODID:-//WordPress//RSVPMaker//EN
METHOD:REQUEST
BEGIN:VEVENT
DTSTAMP:20260421T131533Z
UID:A35E2F4A3FA64EE63AB18D8072B3A806@rsvpmaker.com
SEQUENCE:0
STATUS:CONFIRMED
DTSTART:19700101T000001Z
DTEND:19700101T000001Z
LOCATION:See\: https\://ortegariverclub.net/rsvpmaker/form14385/
SUMMARY:Form:14385
DESCRIPTION:Event info\: https\://ortegariverclub.net/rsvpmaker/form14
 385/
END:VEVENT
END:VCALENDAR