BEGIN:VCALENDAR
VERSION:2.0
CALSCALE:GREGORIAN
PRODID:-//WordPress//RSVPMaker//EN
METHOD:REQUEST
BEGIN:VEVENT
DTSTAMP:20260422T225011Z
UID:C064251D2C99ADBEE465C50F05BDA944@rsvpmaker.com
SEQUENCE:0
STATUS:CONFIRMED
DTSTART:19700101T000001Z
DTEND:19700101T000001Z
LOCATION:See\: https\://ortegariverclub.net/rsvpmaker/form14355/
SUMMARY:Form:14355
DESCRIPTION:Event info\: https\://ortegariverclub.net/rsvpmaker/form14
 355/
END:VEVENT
END:VCALENDAR