BEGIN:VCALENDAR
VERSION:2.0
CALSCALE:GREGORIAN
PRODID:-//WordPress//RSVPMaker//EN
METHOD:REQUEST
BEGIN:VEVENT
DTSTAMP:20260422T225011Z
UID:305EC2F907E0FCBB74F06FEF40C9A4AC@rsvpmaker.com
SEQUENCE:0
STATUS:CONFIRMED
DTSTART:19700101T000001Z
DTEND:19700101T000001Z
LOCATION:See\: https\://ortegariverclub.net/rsvpmaker/form14350/
SUMMARY:Form:14350
DESCRIPTION:Event info\: https\://ortegariverclub.net/rsvpmaker/form14
 350/
END:VEVENT
END:VCALENDAR