BEGIN:VCALENDAR
VERSION:2.0
CALSCALE:GREGORIAN
PRODID:-//WordPress//RSVPMaker//EN
METHOD:REQUEST
BEGIN:VEVENT
DTSTAMP:20260422T205942Z
UID:7274F01ABE1FC0622BD2FF06724950C1@rsvpmaker.com
SEQUENCE:0
STATUS:CONFIRMED
DTSTART:19700101T000001Z
DTEND:19700101T000001Z
LOCATION:See\: https\://ortegariverclub.net/rsvpmaker/form14348/
SUMMARY:Form:14348
DESCRIPTION:Event info\: https\://ortegariverclub.net/rsvpmaker/form14
 348/
END:VEVENT
END:VCALENDAR