BEGIN:VCALENDAR
VERSION:2.0
CALSCALE:GREGORIAN
PRODID:-//WordPress//RSVPMaker//EN
METHOD:REQUEST
BEGIN:VEVENT
DTSTAMP:20260422T205900Z
UID:B050B09D2D80BDC271A775F5B4639258@rsvpmaker.com
SEQUENCE:0
STATUS:CONFIRMED
DTSTART:19700101T000001Z
DTEND:19700101T000001Z
LOCATION:See\: https\://ortegariverclub.net/rsvpmaker/form14347/
SUMMARY:Form:14347
DESCRIPTION:Event info\: https\://ortegariverclub.net/rsvpmaker/form14
 347/
END:VEVENT
END:VCALENDAR