BEGIN:VCALENDAR
VERSION:2.0
CALSCALE:GREGORIAN
PRODID:-//WordPress//RSVPMaker//EN
METHOD:REQUEST
BEGIN:VEVENT
DTSTAMP:20260421T181643Z
UID:DB0D4963149C89B0CC76FFD6AAACF002@rsvpmaker.com
SEQUENCE:0
STATUS:CONFIRMED
DTSTART:19700101T000001Z
DTEND:19700101T000001Z
LOCATION:See\: https\://ortegariverclub.net/rsvpmaker/form14340/
SUMMARY:Form:14340
DESCRIPTION:Event info\: https\://ortegariverclub.net/rsvpmaker/form14
 340/
END:VEVENT
END:VCALENDAR