BEGIN:VCALENDAR
VERSION:2.0
CALSCALE:GREGORIAN
PRODID:-//WordPress//RSVPMaker//EN
METHOD:REQUEST
BEGIN:VEVENT
DTSTAMP:20260425T102333Z
UID:2C7C8EC529D898F2A3BA4D0666B4468F@rsvpmaker.com
SEQUENCE:0
STATUS:CONFIRMED
DTSTART:19700101T000001Z
DTEND:19700101T000001Z
LOCATION:See\: https\://ortegariverclub.net/rsvpmaker/form14339/
SUMMARY:Form:14339
DESCRIPTION:Event info\: https\://ortegariverclub.net/rsvpmaker/form14
 339/
END:VEVENT
END:VCALENDAR