BEGIN:VCALENDAR
VERSION:2.0
CALSCALE:GREGORIAN
PRODID:-//WordPress//RSVPMaker//EN
METHOD:REQUEST
BEGIN:VEVENT
DTSTAMP:20260425T102015Z
UID:2ACA752107AC2BDE4CD02805118DE503@rsvpmaker.com
SEQUENCE:0
STATUS:CONFIRMED
DTSTART:19700101T000001Z
DTEND:19700101T000001Z
LOCATION:See\: https\://ortegariverclub.net/rsvpmaker/form14337/
SUMMARY:Form:14337
DESCRIPTION:Event info\: https\://ortegariverclub.net/rsvpmaker/form14
 337/
END:VEVENT
END:VCALENDAR