BEGIN:VCALENDAR
VERSION:2.0
CALSCALE:GREGORIAN
PRODID:-//WordPress//RSVPMaker//EN
METHOD:REQUEST
BEGIN:VEVENT
DTSTAMP:20260421T145618Z
UID:D16C8F18BDEE715020EC90B5EC04E9D4@rsvpmaker.com
SEQUENCE:0
STATUS:CONFIRMED
DTSTART:19700101T000001Z
DTEND:19700101T000001Z
LOCATION:See\: https\://ortegariverclub.net/rsvpmaker/form14335/
SUMMARY:Form:14335
DESCRIPTION:Event info\: https\://ortegariverclub.net/rsvpmaker/form14
 335/
END:VEVENT
END:VCALENDAR