BEGIN:VCALENDAR
VERSION:2.0
CALSCALE:GREGORIAN
PRODID:-//WordPress//RSVPMaker//EN
METHOD:REQUEST
BEGIN:VEVENT
DTSTAMP:20260421T145049Z
UID:669EA75F1504B326E37D132FEC021EE8@rsvpmaker.com
SEQUENCE:0
STATUS:CONFIRMED
DTSTART:19700101T000001Z
DTEND:19700101T000001Z
LOCATION:See\: https\://ortegariverclub.net/rsvpmaker/form14334/
SUMMARY:Form:14334
DESCRIPTION:Event info\: https\://ortegariverclub.net/rsvpmaker/form14
 334/
END:VEVENT
END:VCALENDAR