BEGIN:VCALENDAR
VERSION:2.0
CALSCALE:GREGORIAN
PRODID:-//WordPress//RSVPMaker//EN
METHOD:REQUEST
BEGIN:VEVENT
DTSTAMP:20260421T113125Z
UID:7006BC554A1A9DE85C416551C10368E2@rsvpmaker.com
SEQUENCE:0
STATUS:CONFIRMED
DTSTART:19700101T000001Z
DTEND:19700101T000001Z
LOCATION:See\: https\://ortegariverclub.net/rsvpmaker/form14331/
SUMMARY:Form:14331
DESCRIPTION:Event info\: https\://ortegariverclub.net/rsvpmaker/form14
 331/
END:VEVENT
END:VCALENDAR