BEGIN:VCALENDAR
VERSION:2.0
CALSCALE:GREGORIAN
PRODID:-//WordPress//RSVPMaker//EN
METHOD:REQUEST
BEGIN:VEVENT
DTSTAMP:20260421T131605Z
UID:90E08C6D15D206857D4FD54FA2F334BC@rsvpmaker.com
SEQUENCE:0
STATUS:CONFIRMED
DTSTART:19700101T000001Z
DTEND:19700101T000001Z
LOCATION:See\: https\://ortegariverclub.net/rsvpmaker/form14329/
SUMMARY:Form:14329
DESCRIPTION:Event info\: https\://ortegariverclub.net/rsvpmaker/form14
 329/
END:VEVENT
END:VCALENDAR