BEGIN:VCALENDAR
VERSION:2.0
CALSCALE:GREGORIAN
PRODID:-//WordPress//RSVPMaker//EN
METHOD:REQUEST
BEGIN:VEVENT
DTSTAMP:20260421T131144Z
UID:D8FA522F781A96A3999321DA05DFDE8C@rsvpmaker.com
SEQUENCE:0
STATUS:CONFIRMED
DTSTART:19700101T000001Z
DTEND:19700101T000001Z
LOCATION:See\: https\://ortegariverclub.net/rsvpmaker/form14327/
SUMMARY:Form:14327
DESCRIPTION:Event info\: https\://ortegariverclub.net/rsvpmaker/form14
 327/
END:VEVENT
END:VCALENDAR