BEGIN:VCALENDAR
VERSION:2.0
CALSCALE:GREGORIAN
PRODID:-//WordPress//RSVPMaker//EN
METHOD:REQUEST
BEGIN:VEVENT
DTSTAMP:20260421T164012Z
UID:EABEED77C370A6A4258A6373AF2D137D@rsvpmaker.com
SEQUENCE:0
STATUS:CONFIRMED
DTSTART:19700101T000001Z
DTEND:19700101T000001Z
LOCATION:See\: https\://ortegariverclub.net/rsvpmaker/form14159/
SUMMARY:Form:14159
DESCRIPTION:Event info\: https\://ortegariverclub.net/rsvpmaker/form14
 159/
END:VEVENT
END:VCALENDAR