BEGIN:VCALENDAR
VERSION:2.0
CALSCALE:GREGORIAN
PRODID:-//WordPress//RSVPMaker//EN
METHOD:REQUEST
BEGIN:VEVENT
DTSTAMP:20260422T150405Z
UID:A8FEB0F39CFE2D43F62DEF3B8E657992@rsvpmaker.com
SEQUENCE:0
STATUS:CONFIRMED
DTSTART:19700101T000001Z
DTEND:19700101T000001Z
LOCATION:See\: https\://ortegariverclub.net/rsvpmaker/form13928/
SUMMARY:Form:13928
DESCRIPTION:Event info\: https\://ortegariverclub.net/rsvpmaker/form13
 928/
END:VEVENT
END:VCALENDAR