BEGIN:VCALENDAR
VERSION:2.0
CALSCALE:GREGORIAN
PRODID:-//WordPress//RSVPMaker//EN
METHOD:REQUEST
BEGIN:VEVENT
DTSTAMP:20260422T191043Z
UID:524E30E771DBA8110C0241A0882023D0@rsvpmaker.com
SEQUENCE:0
STATUS:CONFIRMED
DTSTART:19700101T000001Z
DTEND:19700101T000001Z
LOCATION:See\: https\://ortegariverclub.net/rsvpmaker/form13927/
SUMMARY:Form:13927
DESCRIPTION:Event info\: https\://ortegariverclub.net/rsvpmaker/form13
 927/
END:VEVENT
END:VCALENDAR