BEGIN:VCALENDAR
VERSION:2.0
CALSCALE:GREGORIAN
PRODID:-//WordPress//RSVPMaker//EN
METHOD:REQUEST
BEGIN:VEVENT
DTSTAMP:20260425T102400Z
UID:8AAD11AD0535421EF52A534D5CCE4BD3@rsvpmaker.com
SEQUENCE:0
STATUS:CONFIRMED
DTSTART:19700101T000001Z
DTEND:19700101T000001Z
LOCATION:See\: https\://ortegariverclub.net/rsvpmaker/form13926/
SUMMARY:Form:13926
DESCRIPTION:Event info\: https\://ortegariverclub.net/rsvpmaker/form13
 926/
END:VEVENT
END:VCALENDAR