BEGIN:VCALENDAR
VERSION:2.0
CALSCALE:GREGORIAN
PRODID:-//WordPress//RSVPMaker//EN
METHOD:REQUEST
BEGIN:VEVENT
DTSTAMP:20260421T113305Z
UID:69650A619AF368C12A6EE24947AD7572@rsvpmaker.com
SEQUENCE:0
STATUS:CONFIRMED
DTSTART:19700101T000001Z
DTEND:19700101T000001Z
LOCATION:See\: https\://ortegariverclub.net/rsvpmaker/form13925/
SUMMARY:Form:13925
DESCRIPTION:Event info\: https\://ortegariverclub.net/rsvpmaker/form13
 925/
END:VEVENT
END:VCALENDAR