BEGIN:VCALENDAR
VERSION:2.0
CALSCALE:GREGORIAN
PRODID:-//WordPress//RSVPMaker//EN
METHOD:REQUEST
BEGIN:VEVENT
DTSTAMP:20260422T190829Z
UID:E98549A4CB29369FB6DBB48AB0B6E018@rsvpmaker.com
SEQUENCE:0
STATUS:CONFIRMED
DTSTART:19700101T000001Z
DTEND:19700101T000001Z
LOCATION:See\: https\://ortegariverclub.net/rsvpmaker/form13770/
SUMMARY:Form:13770
DESCRIPTION:Event info\: https\://ortegariverclub.net/rsvpmaker/form13
 770/
END:VEVENT
END:VCALENDAR