BEGIN:VCALENDAR
VERSION:2.0
CALSCALE:GREGORIAN
PRODID:-//WordPress//RSVPMaker//EN
METHOD:REQUEST
BEGIN:VEVENT
DTSTAMP:20260422T144741Z
UID:1AD12E2680E7833BF77FEAA9BB1F02E6@rsvpmaker.com
SEQUENCE:0
STATUS:CONFIRMED
DTSTART:20241122T220000Z
DTEND:20241122T230000Z
LOCATION:See\: https\://ortegariverclub.net/rsvpmaker/first-coast-shag
 -dance-and-grill-night-2024-11-22/
SUMMARY:Friday Night is Dance Party Night
DESCRIPTION:Event info\: https\://ortegariverclub.net/rsvpmaker/first-
 coast-shag-dance-and-grill-night-2024-11-22/
END:VEVENT
END:VCALENDAR