BEGIN:VCALENDAR
VERSION:2.0
CALSCALE:GREGORIAN
PRODID:-//WordPress//RSVPMaker//EN
METHOD:REQUEST
BEGIN:VEVENT
DTSTAMP:20260422T163034Z
UID:5262D5A886484791A7C4C9BD5351A2CF@rsvpmaker.com
SEQUENCE:0
STATUS:CONFIRMED
DTSTART:20240524T210000Z
DTEND:20240524T220000Z
LOCATION:See\: https\://ortegariverclub.net/rsvpmaker/first-coast-shag
 -dance-and-grill-night-2024-05-24/
SUMMARY:Friday Night is Dance Party Night
DESCRIPTION:Event info\: https\://ortegariverclub.net/rsvpmaker/first-
 coast-shag-dance-and-grill-night-2024-05-24/
END:VEVENT
END:VCALENDAR