BEGIN:VCALENDAR
VERSION:2.0
CALSCALE:GREGORIAN
PRODID:-//WordPress//RSVPMaker//EN
METHOD:REQUEST
BEGIN:VEVENT
DTSTAMP:20260422T144212Z
UID:986E781559EDBB32E805D4B135780812@rsvpmaker.com
SEQUENCE:0
STATUS:CONFIRMED
DTSTART:20241006T143000Z
DTEND:20241006T180000Z
LOCATION:See\: https\://ortegariverclub.net/rsvpmaker/fall-sunday-brun
 ch-2024-10-06/
SUMMARY:Autumn Sunday Brunch
DESCRIPTION:Event info\: https\://ortegariverclub.net/rsvpmaker/fall-s
 unday-brunch-2024-10-06/
END:VEVENT
END:VCALENDAR