BEGIN:VCALENDAR
VERSION:2.0
CALSCALE:GREGORIAN
PRODID:-//WordPress//RSVPMaker//EN
METHOD:REQUEST
BEGIN:VEVENT
DTSTAMP:20260420T173608Z
UID:B6AB849C9DE03FD83B0125AD4E9B2F92@rsvpmaker.com
SEQUENCE:0
STATUS:CONFIRMED
DTSTART:20250217T220000Z
DTEND:20250217T230000Z
LOCATION:See\: https\://ortegariverclub.net/rsvpmaker/evening-of-art-a
 nd-music-2025-02-17/
SUMMARY:An Evening of Art and Music
DESCRIPTION:Event info\: https\://ortegariverclub.net/rsvpmaker/evenin
 g-of-art-and-music-2025-02-17/
END:VEVENT
END:VCALENDAR