BEGIN:VCALENDAR
VERSION:2.0
CALSCALE:GREGORIAN
PRODID:-//WordPress//RSVPMaker//EN
METHOD:REQUEST
BEGIN:VEVENT
DTSTAMP:20260422T095306Z
UID:DF799EFD470820BF3DF8D4B9C29730CE@rsvpmaker.com
SEQUENCE:0
STATUS:CONFIRMED
DTSTART:20260424T210000Z
DTEND:20260424T220000Z
LOCATION:See\: https\://ortegariverclub.net/rsvpmaker/double-vision-ba
 nd-2026-04-24/
SUMMARY:Double Vision Band
DESCRIPTION:Event info\: https\://ortegariverclub.net/rsvpmaker/double
 -vision-band-2026-04-24/
END:VEVENT
END:VCALENDAR