BEGIN:VCALENDAR
VERSION:2.0
CALSCALE:GREGORIAN
PRODID:-//WordPress//RSVPMaker//EN
METHOD:REQUEST
BEGIN:VEVENT
DTSTAMP:20260420T191451Z
UID:6BF031C5F3624FCE713D35A8789CEF8F@rsvpmaker.com
SEQUENCE:0
STATUS:CONFIRMED
DTSTART:20250131T233000Z
DTEND:20250201T003000Z
LOCATION:See\: https\://ortegariverclub.net/rsvpmaker/dj-dance-2025-01
 -31/
SUMMARY:DJ Dance
DESCRIPTION:Event info\: https\://ortegariverclub.net/rsvpmaker/dj-dan
 ce-2025-01-31/
END:VEVENT
END:VCALENDAR