BEGIN:VCALENDAR
VERSION:2.0
CALSCALE:GREGORIAN
PRODID:-//WordPress//RSVPMaker//EN
METHOD:REQUEST
BEGIN:VEVENT
DTSTAMP:20260422T092020Z
UID:C2EA9AB296477ED6346856F41C9AA5DA@rsvpmaker.com
SEQUENCE:0
STATUS:CONFIRMED
DTSTART:20250104T233000Z
DTEND:20250105T003000Z
LOCATION:See\: https\://ortegariverclub.net/rsvpmaker/dj-dance-2025-01
 -04/
SUMMARY:DJ Dance
DESCRIPTION:Event info\: https\://ortegariverclub.net/rsvpmaker/dj-dan
 ce-2025-01-04/
END:VEVENT
END:VCALENDAR