BEGIN:VCALENDAR
VERSION:2.0
CALSCALE:GREGORIAN
PRODID:-//WordPress//RSVPMaker//EN
METHOD:REQUEST
BEGIN:VEVENT
DTSTAMP:20260422T095710Z
UID:4C1ED2FACC7F349E4810F522A6EA9990@rsvpmaker.com
SEQUENCE:0
STATUS:CONFIRMED
DTSTART:20260506T210000Z
DTEND:20260506T220000Z
LOCATION:See\: https\://ortegariverclub.net/rsvpmaker/dinner-at-the-ri
 ver-and-line-dancing-2026-05-06/
SUMMARY:Dinner at the River and Line Dancing
DESCRIPTION:Event info\: https\://ortegariverclub.net/rsvpmaker/dinner
 -at-the-river-and-line-dancing-2026-05-06/
END:VEVENT
END:VCALENDAR