BEGIN:VCALENDAR
VERSION:2.0
CALSCALE:GREGORIAN
PRODID:-//WordPress//RSVPMaker//EN
METHOD:REQUEST
BEGIN:VEVENT
DTSTAMP:20260422T115051Z
UID:A276EA0B9D0B6E54FC3C7AFF092A0235@rsvpmaker.com
SEQUENCE:0
STATUS:CONFIRMED
DTSTART:20260429T210000Z
DTEND:20260429T220000Z
LOCATION:See\: https\://ortegariverclub.net/rsvpmaker/dinner-at-the-ri
 ver-and-line-dancing-2026-04-29/
SUMMARY:Dinner at the River and Line Dancing
DESCRIPTION:Event info\: https\://ortegariverclub.net/rsvpmaker/dinner
 -at-the-river-and-line-dancing-2026-04-29/
END:VEVENT
END:VCALENDAR