BEGIN:VCALENDAR
VERSION:2.0
CALSCALE:GREGORIAN
PRODID:-//WordPress//RSVPMaker//EN
METHOD:REQUEST
BEGIN:VEVENT
DTSTAMP:20260422T114949Z
UID:3DAB936961A08882A5A63319A046C6FE@rsvpmaker.com
SEQUENCE:0
STATUS:CONFIRMED
DTSTART:20260422T210000Z
DTEND:20260422T220000Z
LOCATION:See\: https\://ortegariverclub.net/rsvpmaker/dinner-at-the-ri
 ver-and-line-dancing-2026-04-22/
SUMMARY:Dinner at the River and Line Dancing
DESCRIPTION:Event info\: https\://ortegariverclub.net/rsvpmaker/dinner
 -at-the-river-and-line-dancing-2026-04-22/
END:VEVENT
END:VCALENDAR