BEGIN:VCALENDAR
VERSION:2.0
CALSCALE:GREGORIAN
PRODID:-//WordPress//RSVPMaker//EN
METHOD:REQUEST
BEGIN:VEVENT
DTSTAMP:20260420T090151Z
UID:7E90C4B14A5E2E62F0323F94B6DB015E@rsvpmaker.com
SEQUENCE:0
STATUS:CONFIRMED
DTSTART:20250903T210000Z
DTEND:20250903T220000Z
LOCATION:See\: https\://ortegariverclub.net/rsvpmaker/dinner-at-the-ri
 ver-and-line-dancing-2025-09-03/
SUMMARY:Dinner at the River and Line Dancing
DESCRIPTION:Event info\: https\://ortegariverclub.net/rsvpmaker/dinner
 -at-the-river-and-line-dancing-2025-09-03/
END:VEVENT
END:VCALENDAR