BEGIN:VCALENDAR
VERSION:2.0
CALSCALE:GREGORIAN
PRODID:-//WordPress//RSVPMaker//EN
METHOD:REQUEST
BEGIN:VEVENT
DTSTAMP:20260420T173422Z
UID:57D24B024678F5C614DB5D48447871D1@rsvpmaker.com
SEQUENCE:0
STATUS:CONFIRMED
DTSTART:20250226T220000Z
DTEND:20250226T230000Z
LOCATION:See\: https\://ortegariverclub.net/rsvpmaker/dinner-at-the-ri
 ver-and-line-dancing-2025-02-26/
SUMMARY:Dinner at the River and Line Dancing
DESCRIPTION:Event info\: https\://ortegariverclub.net/rsvpmaker/dinner
 -at-the-river-and-line-dancing-2025-02-26/
END:VEVENT
END:VCALENDAR