BEGIN:VCALENDAR
VERSION:2.0
CALSCALE:GREGORIAN
PRODID:-//WordPress//RSVPMaker//EN
METHOD:REQUEST
BEGIN:VEVENT
DTSTAMP:20260422T105814Z
UID:3F8EE098F1300BEB0464A8A8288AB931@rsvpmaker.com
SEQUENCE:0
STATUS:CONFIRMED
DTSTART:20250129T220000Z
DTEND:20250129T230000Z
LOCATION:See\: https\://ortegariverclub.net/rsvpmaker/dinner-at-the-ri
 ver-and-line-dancing-2025-01-29/
SUMMARY:Dinner at the River and Line Dancing
DESCRIPTION:Event info\: https\://ortegariverclub.net/rsvpmaker/dinner
 -at-the-river-and-line-dancing-2025-01-29/
END:VEVENT
END:VCALENDAR