BEGIN:VCALENDAR
VERSION:2.0
CALSCALE:GREGORIAN
PRODID:-//WordPress//RSVPMaker//EN
METHOD:REQUEST
BEGIN:VEVENT
DTSTAMP:20260422T103704Z
UID:6E9FEEF0D48EAD6730CE88ECC22B34CC@rsvpmaker.com
SEQUENCE:0
STATUS:CONFIRMED
DTSTART:20250122T220000Z
DTEND:20250122T230000Z
LOCATION:See\: https\://ortegariverclub.net/rsvpmaker/dinner-at-the-ri
 ver-and-line-dancing-2025-01-22/
SUMMARY:Dinner at the River and Line Dancing
DESCRIPTION:Event info\: https\://ortegariverclub.net/rsvpmaker/dinner
 -at-the-river-and-line-dancing-2025-01-22/
END:VEVENT
END:VCALENDAR