BEGIN:VCALENDAR
VERSION:2.0
CALSCALE:GREGORIAN
PRODID:-//WordPress//RSVPMaker//EN
METHOD:REQUEST
BEGIN:VEVENT
DTSTAMP:20260422T110119Z
UID:5103DC11E9D8CCF5C2C0DD2A6254A7A4@rsvpmaker.com
SEQUENCE:0
STATUS:CONFIRMED
DTSTART:20250115T220000Z
DTEND:20250115T230000Z
LOCATION:See\: https\://ortegariverclub.net/rsvpmaker/dinner-at-the-ri
 ver-and-line-dancing-2025-01-15/
SUMMARY:Dinner at the River and Line Dancing
DESCRIPTION:Event info\: https\://ortegariverclub.net/rsvpmaker/dinner
 -at-the-river-and-line-dancing-2025-01-15/
END:VEVENT
END:VCALENDAR