BEGIN:VCALENDAR
VERSION:2.0
CALSCALE:GREGORIAN
PRODID:-//WordPress//RSVPMaker//EN
METHOD:REQUEST
BEGIN:VEVENT
DTSTAMP:20260422T110027Z
UID:5C5BBE5FEC5AF08592F03045A9C009A0@rsvpmaker.com
SEQUENCE:0
STATUS:CONFIRMED
DTSTART:20241204T220000Z
DTEND:20241204T230000Z
LOCATION:See\: https\://ortegariverclub.net/rsvpmaker/dinner-at-the-ri
 ver-and-line-dancing-2024-12-04/
SUMMARY:Dinner at the River and Line Dancing
DESCRIPTION:Event info\: https\://ortegariverclub.net/rsvpmaker/dinner
 -at-the-river-and-line-dancing-2024-12-04/
END:VEVENT
END:VCALENDAR