BEGIN:VCALENDAR
VERSION:2.0
CALSCALE:GREGORIAN
PRODID:-//WordPress//RSVPMaker//EN
METHOD:REQUEST
BEGIN:VEVENT
DTSTAMP:20260422T124946Z
UID:DA688D46DBE8AED91344330B0D863DB5@rsvpmaker.com
SEQUENCE:0
STATUS:CONFIRMED
DTSTART:20241106T220000Z
DTEND:20241106T230000Z
LOCATION:See\: https\://ortegariverclub.net/rsvpmaker/dinner-at-the-ri
 ver-and-line-dancing-2024-11-06/
SUMMARY:Dinner at the River and Line Dancing
DESCRIPTION:Event info\: https\://ortegariverclub.net/rsvpmaker/dinner
 -at-the-river-and-line-dancing-2024-11-06/
END:VEVENT
END:VCALENDAR