BEGIN:VCALENDAR
VERSION:2.0
CALSCALE:GREGORIAN
PRODID:-//WordPress//RSVPMaker//EN
METHOD:REQUEST
BEGIN:VEVENT
DTSTAMP:20260422T163005Z
UID:CB36AF3131AA783905FA7F510698E9CE@rsvpmaker.com
SEQUENCE:0
STATUS:CONFIRMED
DTSTART:20241030T210000Z
DTEND:20241030T220000Z
LOCATION:See\: https\://ortegariverclub.net/rsvpmaker/dinner-at-the-ri
 ver-and-line-dancing-2024-10-30/
SUMMARY:Dinner at the River and Line Dancing
DESCRIPTION:Event info\: https\://ortegariverclub.net/rsvpmaker/dinner
 -at-the-river-and-line-dancing-2024-10-30/
END:VEVENT
END:VCALENDAR