BEGIN:VCALENDAR
VERSION:2.0
CALSCALE:GREGORIAN
PRODID:-//WordPress//RSVPMaker//EN
METHOD:REQUEST
BEGIN:VEVENT
DTSTAMP:20260422T144408Z
UID:9FD4B00AF024DC168D3D955414CEB8E9@rsvpmaker.com
SEQUENCE:0
STATUS:CONFIRMED
DTSTART:20241002T210000Z
DTEND:20241002T220000Z
LOCATION:See\: https\://ortegariverclub.net/rsvpmaker/dinner-at-the-ri
 ver-and-line-dancing-2024-10-02/
SUMMARY:Dinner at the River and Line Dancing
DESCRIPTION:Event info\: https\://ortegariverclub.net/rsvpmaker/dinner
 -at-the-river-and-line-dancing-2024-10-02/
END:VEVENT
END:VCALENDAR